BEGIN:VCALENDAR
VERSION:2.0
PRODID:-//Library Market//iCal Export//EN
BEGIN:VEVENT
SUMMARY:Read &#039;Em &amp; Weep
UID:26912
DTSTAMP:20260421T173600Z
DTSTART:20260824T213000Z
DTEND:20260824T223000Z
LOCATION:1160 E SR 205, P.O. Box 406, Columbia City, IN 46725, United Stat
 es
ROOM: Cattail Corner - Adult Services
DESCRIPTION:The spotlights on: Shakespeare&#039;s &quot;The Tempest&quot;N
 o card? No problem! We will have printed out sample copies so anyone is w
 elcome to join in the discussion!Want to read more? Perfect! We will also 
 have the author&#039;s work available for regular checkout!
URL:https://peabody.librarymarket.com/event/read-em-weep-26912
END:VEVENT
END:VCALENDAR
