BEGIN:VCALENDAR
VERSION:2.0
PRODID:-//Library Market//iCal Export//EN
BEGIN:VEVENT
SUMMARY:Create and Connect:  Crochet
UID:27233
DTSTAMP:20260425T113400Z
DTSTART:20260803T213000Z
DTEND:20260803T223000Z
LOCATION:1160 E SR 205, P.O. Box 406, Columbia City, IN 46725, United Stat
 es
ROOM: Cattail Corner - Adult Services
DESCRIPTION:Are you a crocheter looking for a group to create with?Â  Come
  join us to work on your own project or work on the project of the month.Â
  Â This group is intended for people of all experience levels and styles.W
 e will have a few hooks available for the group. Â If you own hooks, pleas
 e bring them with you! Â 
URL:https://peabody.librarymarket.com/index.php/event/create-and-connect-c
 rochet-27233
END:VEVENT
END:VCALENDAR
