BEGIN:VCALENDAR
VERSION:2.0
PRODID:-//Library Market//iCal Export//EN
BEGIN:VEVENT
SUMMARY:Stuffie Sleepover
UID:27228
DTSTAMP:20260424T050500Z
DTSTART:20260923T220000Z
DTEND:20260923T223000Z
LOCATION:1160 E SR 205, P.O. Box 406, Columbia City, IN 46725, United Stat
 es
ROOM: The Lily Pad - Youth Services Programming Room
DESCRIPTION:Join us for a special storytime with your stuffie! After story
 time, stuffies will get to spend the night at the library with their frien
 ds. Pick them up anytime on Thursday along with a keepsake from their slee
 pover.As always, all library events are free and no library card is requir
 ed to attend! 
URL:https://peabody.librarymarket.com/index.php/event/stuffie-sleepover-27
 228
END:VEVENT
END:VCALENDAR
