BEGIN:VCALENDAR
VERSION:2.0
PRODID:-//Library Market//iCal Export//EN
BEGIN:VEVENT
SUMMARY:Junior Detectives: Muddy Slime Adventure
UID:27172
DTSTAMP:20260424T001600Z
DTSTART:20260820T203000Z
DTEND:20260820T213000Z
LOCATION:1160 E SR 205, P.O. Box 406, Columbia City, IN 46725, United Stat
 es
ROOM: The Lily Pad - Youth Services Programming Room
DESCRIPTION:Become a top-notch sleuth! Inspired by favorite mystery books,
  kids will dive into the world of detection with hands-on activities and e
 xperiments. Get ready to solve the case and become an Ultimate Junior Dete
 ctive! After each session participants will also get to go home with thei
 r own copy of the mystery book we discussed.  As always, all events are 
 free and no library card is required to attend.
URL:https://peabody.librarymarket.com/index.php/event/junior-detectives-mu
 ddy-slime-adventure-27172
END:VEVENT
END:VCALENDAR
