BEGIN:VCALENDAR
VERSION:2.0
PRODID:-//Library Market//iCal Export//EN
BEGIN:VEVENT
SUMMARY:Take and Make:  Bird Garland
UID:26880
DTSTAMP:20260424T115000Z
DTSTART:20260701T040000Z
DTEND:20260701T040000Z
LOCATION:1160 E SR 205, P.O. Box 406, Columbia City, IN 46725, United Stat
 es
ROOM: Take and Make:  Bird Garland
DESCRIPTION:Come to the library to pick up the supplies to make a fun craf
 t in the comfort of your own home.We will supply the instructions and supp
 lies; you supply the creativity!*The package will contain everything you n
 eed to make your own Bird Garland!The Take and Make craft will be availabl
 e while supplies last. *This craft requires your own pair of scissors and
  glue stick.
URL:https://peabody.librarymarket.com/index.php/event/take-and-make-bookma
 rks-26880
END:VEVENT
END:VCALENDAR
